BEGIN:VCALENDAR
VERSION:2.0
PRODID:-//ChamberMaster//Event Calendar 2.0//EN
METHOD:PUBLISH
X-PUBLISHED-TTL:P3D
REFRESH-INTERVAL:P3D
CALSCALE:GREGORIAN
BEGIN:VEVENT
DTSTART;VALUE=DATE:20260303
DTEND;VALUE=DATE:20260411
TRANSP:TRANSPARENT
X-MICROSOFT-CDO-ALLDAYEVENT:TRUE
SUMMARY:2026 Industrial Production & Trades Survey
DESCRIPTION:2026 Workforce Survey Partnership\n\n \n\n\n\nSheboygan County Chamber of Commerce   MRA\n\n \n\n\n\nIn partnership with MRA   The Management Association\; the Sheboygan County Chamber of Commerce is offering four nationally recognized workforce surveys in 2026. These surveys provide businesses with actionable data to support compensation planning\, recruitment\, retention\, and long-term workforce strategy.\n\n \n\n\nAfter paying for your participation\, you will be sent a link directly from MRA to complete the survey. Survey results will be released in mid-May.\n\nThe 2026 Industrial Production & Trades Survey provides insights on 220+ roles\, including assembly\, welding\, shipping\, transportation\, and more.\n\n\n	Questionnaire Available: March 3\, 2026\n	Survey Deadline: April 10\, 2026\n	Report Published: July 2026\n	Cost to Participate: $195\n	Full report valued at $1\,199\n\n\n\nThis year\, the survey covers over 320 jobs spanning over 20 job families\, including:\n\n\n	Assembly\n	Finishing\n	Facilities\n	Manufacturing Automation\n	Shipping/Receiving\n	Transportation\n	Welding\n	...and more!\n\n\nThe data is collected for all U.S. Markets\, with the final report containing five state sections (Iowa\, Illinois\, Minnesota\, Ohio\, and Wisconsin) plus an overall section.\n\n \nWith local\, employer-matched\, employer-reported pay data\, you can be confident that your organization is making vital pay decisions based on solid\, high-quality data that reflects the market in which you do business. The more organizations that participate\, the more reliable and representative the results!\n\n \n\nAll data is kept confidential in accordance with the U.S. Department of Justice and Federal Trade Commission Anti-Trust Safety Guidelines. Data is only reported if there is a minimum of 5 participating organizations.\n\n\n\nIf you are an MRA member\, please get in touch with your MRA representative and complete the survey through them.
X-ALT-DESC;FMTTYPE=text/html:<div color:="" font-feature-settings:="" font-kerning:="" font-language-override:="" font-optical-sizing:="" font-size-adjust:="" font-variation-settings:="" helvetica="" margin:="" padding:="" segoe="" style="border: 0px\; font-variant-numeric: inherit\; font-variant-east-asian: inherit\; font-variant-alternates: inherit\; font-variant-position: inherit\; font-variant-emoji: inherit\; font-stretch: inherit\; font-size: 15px\; line-height: inherit\; font-family: " ui="" vertical-align:="" web="" west="">\n<p class="x_MsoNormal" style="margin: 0in\; font-size: 12pt\; font-family: Aptos\, sans-serif\;"><b><span data-olk-copy-source="MessageBody" style="border: 0px\; font-style: inherit\; font-variant: inherit\; font-weight: inherit\; font-stretch: inherit\; font-size: 11pt\; line-height: inherit\; font-family: inherit\; font-optical-sizing: inherit\; font-size-adjust: inherit\; font-kerning: inherit\; font-feature-settings: inherit\; font-variation-settings: inherit\; font-language-override: inherit\; margin: 0px\; padding: 0px\; vertical-align: baseline\; color: black\;">2026 Workforce Survey Partnership</span></b><br />\n&nbsp\;</p>\n</div>\n\n<div 12pt="" color:="" font-feature-settings:="" font-kerning:="" font-language-override:="" font-optical-sizing:="" font-size-adjust:="" font-variation-settings:="" helvetica="" margin:="" padding:="" segoe="" style="border: 0px\; font-variant-numeric: inherit\; font-variant-east-asian: inherit\; font-variant-alternates: inherit\; font-variant-position: inherit\; font-variant-emoji: inherit\; font-stretch: inherit\; font-size: 15px\; line-height: inherit\; font-family: " ui="" vertical-align:="" web="" west="">\n<p class="x_MsoNormal" style="margin: 0in\; font-size: 12pt\; font-family: Aptos\, sans-serif\;"><b><span style="border: 0px\; font-style: inherit\; font-variant: inherit\; font-weight: inherit\; font-stretch: inherit\; font-size: 11pt\; line-height: inherit\; font-family: inherit\; font-optical-sizing: inherit\; font-size-adjust: inherit\; font-kerning: inherit\; font-feature-settings: inherit\; font-variation-settings: inherit\; font-language-override: inherit\; margin: 0px\; padding: 0px\; vertical-align: baseline\; color: black\;">Sheboygan County Chamber of Commerce &times\; MRA</span></b><br />\n&nbsp\;</p>\n</div>\n\n<div 12pt="" color:="" font-feature-settings:="" font-kerning:="" font-language-override:="" font-optical-sizing:="" font-size-adjust:="" font-variation-settings:="" helvetica="" margin:="" padding:="" segoe="" style="border: 0px\; font-variant-numeric: inherit\; font-variant-east-asian: inherit\; font-variant-alternates: inherit\; font-variant-position: inherit\; font-variant-emoji: inherit\; font-stretch: inherit\; font-size: 15px\; line-height: inherit\; font-family: " ui="" vertical-align:="" web="" west="">\n<p class="x_MsoNormal" style="margin: 0in\; font-size: 12pt\; font-family: Aptos\, sans-serif\;"><span style="border: 0px\; font-style: inherit\; font-variant: inherit\; font-weight: inherit\; font-stretch: inherit\; font-size: 11pt\; line-height: inherit\; font-family: inherit\; font-optical-sizing: inherit\; font-size-adjust: inherit\; font-kerning: inherit\; font-feature-settings: inherit\; font-variation-settings: inherit\; font-language-override: inherit\; margin: 0px\; padding: 0px\; vertical-align: baseline\; color: black\;">In partnership with MRA &ndash\; The Management Association\;&nbsp\;the Sheboygan County Chamber of Commerce is offering four nationally recognized workforce surveys in 2026. These surveys provide businesses with actionable data to support compensation planning\, recruitment\, retention\, and long-term workforce strategy.</span><br />\n&nbsp\;</p>\n</div>\n\n<p style="box-sizing: border-box\; margin: 0px 0px 1rem\; color: rgb(59\, 60\, 61)\; font-family: Montserrat\, sans-serif\; font-size: 16px\;">After paying for your participation\, you will be sent a link directly from MRA to complete the survey. Survey results will be released in mid-May.</p>\n\n<p style="box-sizing: border-box\; margin: 0px 0px 1rem\; color: rgb(59\, 60\, 61)\; font-family: Montserrat\, sans-serif\; font-size: 16px\;"><span id="docs-internal-guid-151092d5-7fff-3fd5-90b7-c9e6a667a2ca"><span background-color:="" color:="" font-variant-alternates:="" font-variant-east-asian:="" font-variant-emoji:="" font-variant-numeric:="" font-variant-position:="" new="" style="font-size: 12pt\; font-family: " times="" vertical-align:="" white-space-collapse:="">The 2026 Industrial Production &amp\; Trades Survey provides insights on 220+ roles\, including assembly\, welding\, shipping\, transportation\, and more.</span></span></p>\n\n<ul fr-original-style="" style="box-sizing: border-box\; margin-top: 0px\; margin-bottom: 1rem\; color: rgb(59\, 60\, 61)\; font-family: Montserrat\, sans-serif\; font-size: 16px\; list-style-position: inside\;">\n	<li style="box-sizing: border-box\;">Questionnaire Available: March 3\, 2026</li>\n	<li style="box-sizing: border-box\;">Survey Deadline: April 10\, 2026</li>\n	<li style="box-sizing: border-box\;">Report Published: July 2026</li>\n	<li style="box-sizing: border-box\;">Cost to Participate: $195</li>\n	<li style="box-sizing: border-box\;">Full report valued at $1\,199</li>\n</ul>\n\n<div style="box-sizing: border-box\;">\n<p style="box-sizing: border-box\; margin: 0px 0px 1rem\; color: rgb(59\, 60\, 61)\; font-family: Montserrat\, sans-serif\; font-size: 16px\;">This year\, the survey covers over 320 jobs spanning over 20 job families\, including:</p>\n\n<ul fr-original-style="list-style-type: disc\;" style="box-sizing: border-box\; margin-top: 0px\; margin-bottom: 1rem\; color: rgb(59\, 60\, 61)\; font-family: Montserrat\, sans-serif\; font-size: 16px\; list-style-position: inside\;">\n	<li style="box-sizing: border-box\;">Assembly</li>\n	<li style="box-sizing: border-box\;">Finishing</li>\n	<li style="box-sizing: border-box\;">Facilities</li>\n	<li style="box-sizing: border-box\;">Manufacturing Automation</li>\n	<li style="box-sizing: border-box\;">Shipping/Receiving</li>\n	<li style="box-sizing: border-box\;">Transportation</li>\n	<li style="box-sizing: border-box\;">Welding</li>\n	<li style="box-sizing: border-box\;">...and more!</li>\n</ul>\n\n<div style="box-sizing: border-box\;"><span style="color: rgb(59\, 60\, 61)\; font-family: Montserrat\, sans-serif\; font-size: 16px\;">The data is collected for all U.S. Markets\, with the final report containing five state sections (Iowa\, Illinois\, Minnesota\, Ohio\, and Wisconsin) plus an overall section.</span><br />\n&nbsp\;\n<p style="box-sizing: border-box\; margin: 6pt 0in\; color: rgb(59\, 60\, 61)\; font-family: Montserrat\, sans-serif\; font-size: 16px\; line-height: normal\; vertical-align: middle\;">With local\, employer-matched\, employer-reported pay data\, you can be confident that your organization is making vital pay decisions based on solid\, high-quality data that reflects the market in which you do business. The more organizations that participate\, the more reliable and representative the results!</p>\n\n<p style="box-sizing: border-box\; margin: 6pt 0in\; color: rgb(59\, 60\, 61)\; font-family: Montserrat\, sans-serif\; font-size: 16px\; line-height: normal\; vertical-align: middle\;">&nbsp\;</p>\n\n<p style="box-sizing: border-box\; margin: 6pt 0in\; color: rgb(59\, 60\, 61)\; font-family: Montserrat\, sans-serif\; font-size: 16px\; line-height: normal\; vertical-align: middle\;">All data is kept confidential in accordance with the U.S. Department of Justice and Federal Trade Commission Anti-Trust Safety Guidelines. Data is only reported if there is a minimum of 5 participating organizations.<br />\n<br />\nIf you are an MRA member\, please get in touch with your MRA representative and complete the survey through them.&nbsp\;</p>\n</div>\n</div>\n
LOCATION:
UID:e.853.47962
SEQUENCE:3
DTSTAMP:20260419T123842Z
URL:https://business.sheboygan.org/events/details/2026-industrial-production-trades-survey-47962
END:VEVENT

END:VCALENDAR
