BEGIN:VCALENDAR
VERSION:2.0
PRODID:-//ChamberMaster//Event Calendar 2.0//EN
METHOD:PUBLISH
X-PUBLISHED-TTL:P3D
REFRESH-INTERVAL:P3D
CALSCALE:GREGORIAN
BEGIN:VEVENT
DTSTART:20221125T160000Z
DTEND:20221126T000000Z
X-MICROSOFT-CDO-ALLDAYEVENT:FALSE
SUMMARY:Blackhawk Shooting Sports - Black(hawk) Friday
DESCRIPTION:Stop in for discounted lane rental cards 10% off\; gift ideas for the freedom lovers in your life\; and more! Thank you for supporting your local gun range. #ShopSmall
X-ALT-DESC;FMTTYPE=text/html:<span style="font-family: sans-serif\; font-size: 18px\; background-color: rgb(255\, 255\, 255)\;">Stop in for discounted lane rental cards 10% off\; gift ideas for the freedom lovers in your life\; and more! Thank you for supporting your local gun range. #ShopSmall</span>
LOCATION:Blackhawk Shooting Sports 24 N. Business Park Dr. Oostburg\, WI 53070
UID:e.853.39230
SEQUENCE:3
DTSTAMP:20260420T044031Z
URL:https://business.sheboygan.org/events/details/blackhawk-shooting-sports-black-hawk-friday-39230
END:VEVENT

END:VCALENDAR
