BEGIN:VCALENDAR
VERSION:2.0
PRODID:-//ChamberMaster//Event Calendar 2.0//EN
METHOD:PUBLISH
X-PUBLISHED-TTL:P3D
REFRESH-INTERVAL:P3D
CALSCALE:GREGORIAN
BEGIN:VEVENT
DTSTART:20250310T150000Z
DTEND:20250310T153000Z
X-MICROSOFT-CDO-ALLDAYEVENT:FALSE
SUMMARY:CANDIDATE FORUM: Mayor of Sheboygan Falls
DESCRIPTION:Please join us for a Candidate Forum on Monday\, March 10th\, 10:00am - 10:30am in the Chamber's large conference room. We are pleased to welcome Sheboygan Fall candidates for the Sheboygan Falls Mayoral race. Candidates will engage in conversation and answer questions regarding the upcoming election and what they hope to accomplish if chosen to represent the city of Sheboygan Falls. Event is open to the public\, but you must Register in advance.\n\n \nInvited Candidates...\n\n\n\nSheboygan Falls Mayoral Race:\n\n\n	Randy Meyer -  Invitation Accepted\n	Ryan Menzer - Invited\n\n*Registration is required*\n\n\n\nIf you have questions for the candidates\, please send your questions in advance\, by March 7th\, to Deidre Martinez at deidre@sheboygan.org.\n\n\n\n**Not all questions are guaranteed to be asked due to time limitations.
X-ALT-DESC;FMTTYPE=text/html:<span style="color: rgb(68\, 68\, 68)\; font-family: arial\; font-size: 14px\;">Please join us for a Candidate Forum on Monday\, March 10th\, 10:00am - 10:30am in the Chamber&#39\;s large conference room. We are pleased to welcome Sheboygan Fall candidates for the Sheboygan Falls Mayoral race. Candidates will engage in conversation and answer questions regarding the upcoming election and what they hope to accomplish if chosen to represent the city of Sheboygan Falls. Event is open to the public\, but you must Register in advance.</span><br />\n&nbsp\;\n<p style="box-sizing: border-box\; margin-block: 0px 0.9rem\; margin-top: 0px\; margin-bottom: 1rem\; color: rgb(68\, 68\, 68)\; font-family: Arial\, Helvetica\, sans-serif\; font-size: 14px\;"><span style="box-sizing: border-box\; font-weight: bolder\;">Invited Candidates...</span><br style="box-sizing: border-box\;" />\n<br style="box-sizing: border-box\;" />\nSheboygan Falls Mayoral Race:</p>\n\n<ul style="box-sizing: border-box\; margin-block: 0px\; border: 0px\; outline: 0px\; font-size: 14px\; vertical-align: baseline\; background-image: initial\; background-position: initial\; background-size: initial\; background-repeat: initial\; background-attachment: initial\; background-origin: initial\; background-clip: initial\; margin-top: 0px\; margin-bottom: 1rem\; color: rgb(68\, 68\, 68)\; font-family: Arial\, Helvetica\, sans-serif\;">\n	<li style="box-sizing: border-box\; margin-block: 0px\; border: 0px\; outline: 0px\; vertical-align: baseline\; background: transparent\; margin: 0px\;"><b>Randy Meyer</b> -&nbsp\;<strong style="color: rgb(68\, 68\, 68)\; font-family: Arial\, Helvetica\, sans-serif\; font-size: 14px\;">&nbsp\;Invitation Accepted</strong></li>\n	<li style="box-sizing: border-box\; margin-block: 0px\; border: 0px\; outline: 0px\; vertical-align: baseline\; background: transparent\; margin: 0px\;">Ryan Menzer - Invited</li>\n</ul>\n<span style="color: rgb(68\, 68\, 68)\; font-family: Arial\, Helvetica\, sans-serif\; font-size: 14px\;">*Registration is required*</span><br style="box-sizing: border-box\; color: rgb(68\, 68\, 68)\; font-family: Arial\, Helvetica\, sans-serif\; font-size: 14px\;" />\n<br style="box-sizing: border-box\; color: rgb(68\, 68\, 68)\; font-family: Arial\, Helvetica\, sans-serif\; font-size: 14px\;" />\n<span style="box-sizing: border-box\; color: rgb(68\, 68\, 68)\; font-family: Arial\, Helvetica\, sans-serif\; font-size: 24px\;"><span style="box-sizing: border-box\; color: rgb(255\, 0\, 0)\;">If you have questions for the candidates\, please send your questions in advance\, by March 7th\, to Deidre Martinez at deidre@sheboygan.org.</span></span><br style="box-sizing: border-box\; color: rgb(68\, 68\, 68)\; font-family: Arial\, Helvetica\, sans-serif\; font-size: 14px\;" />\n<br />\n**Not all questions are guaranteed to be asked due to time limitations.&nbsp\;
LOCATION:Sheboygan County Chamber of Commerce 621 S 8th Street Sheboygan\, WI 53081 Large Conference Room
UID:e.853.45154
SEQUENCE:3
DTSTAMP:20260424T033837Z
URL:https://business.sheboygan.org/events/details/candidate-forum-mayor-of-sheboygan-falls-45154
END:VEVENT

END:VCALENDAR
