BEGIN:VCALENDAR
VERSION:2.0
PRODID:-//ChamberMaster//Event Calendar 2.0//EN
METHOD:PUBLISH
X-PUBLISHED-TTL:P3D
REFRESH-INTERVAL:P3D
CALSCALE:GREGORIAN
BEGIN:VEVENT
DTSTART;VALUE=DATE:20250501
DTEND;VALUE=DATE:20250601
TRANSP:TRANSPARENT
X-MICROSOFT-CDO-ALLDAYEVENT:TRUE
SUMMARY:Celebrate YP Month May 2025
DESCRIPTION:May is Young Professionals (YP) Month!\n\nJoin us for a month full of exciting events and every time you attend\, you'll be entered to win Chamber Cash or tickets to an upcoming YP event! Want to double your chances? Bring a friend and earn two entries!\n\n  Plus\, don't miss our hashtag photo contest at each event snap a pic\, post it with our event hashtag\, and you could win even more prizes!\n\n   Prize drawings will be held on June 2.\n\nWe can't wait to see you there! \nDon't miss out on this incredible opportunity to connect\, grow\, and have a blast with your fellow young professionals in Sheboygan County. Let's make this month one to remember   Clicks the links below to register!\n\n\n\nEVENTS\n\nYP UNCOVER INSIGHTS: A Bookish Exploration - May 8\, 2025 - The Sheboygan Chamber of Commerce\n\n\n\nYP & Sheboygan Jaycees Social Mixer - May 14\, 2025 - The Sheboygan Chamber of Commerce\n\n\n\nYP Volunteer @ Camp Y-Koda - May 19\, 2025 - The Sheboygan Chamber of Commerce\n\n\n\nYP MINI CONFERENCE: Self Care & Burnout - May 28\, 2025 - The Sheboygan Chamber of Commerce
X-ALT-DESC;FMTTYPE=text/html:<p>&#127881\; <strong>May is Young Professionals (YP) Month!</strong><br />\nJoin us for a month full of exciting events&mdash\;and every time you attend\, you&#39\;ll be entered to win <strong>Chamber Cash</strong> or <strong>tickets to an upcoming YP event</strong>! Want to double your chances? <strong>Bring a friend</strong> and earn <em>two</em> entries!</p>\n\n<p>&#128248\; Plus\, don&rsquo\;t miss our <strong>hashtag photo contest</strong> at each event&mdash\;snap a pic\, post it with our event hashtag\, and you could win even more prizes!</p>\n\n<p>&#127903\;&#65039\; <strong>Prize drawings will be held on June 2.</strong><br />\nWe can&rsquo\;t wait to see you there!&nbsp\;</p>\nDon&#39\;t miss out on this incredible opportunity to connect\, grow\, and have a blast with your fellow young professionals in Sheboygan County. Let&#39\;s make this month one to remember &ndash\; Clicks the links below to register!<br />\n<br />\n<span style="font-size:20px\;"><u><strong><span style="color:#0000CD\;">EVENTS</span></strong></u></span><br />\n<a href="https://business.sheboygan.org/events/details/yp-uncover-insights-a-bookish-exploration-45223">YP UNCOVER INSIGHTS: A Bookish Exploration - May 8\, 2025 - The Sheboygan Chamber of Commerce</a><br />\n<br />\n<a href="https://business.sheboygan.org/events/details/yp-sheboygan-jaycees-social-mixer-44223">YP &amp\; Sheboygan Jaycees Social Mixer - May 14\, 2025 - The Sheboygan Chamber of Commerce</a><br />\n<br />\n<a href="https://business.sheboygan.org/events/details/yp-volunteer-camp-y-koda-45221">YP Volunteer @ Camp Y-Koda - May 19\, 2025 - The Sheboygan Chamber of Commerce</a><br />\n<br />\n<a href="https://business.sheboygan.org/events/details/yp-mini-conference-self-care-burnout-45181">YP MINI CONFERENCE: Self Care &amp\; Burnout - May 28\, 2025 - The Sheboygan Chamber of Commerce</a>
LOCATION:
UID:e.853.45309
SEQUENCE:3
DTSTAMP:20260424T183355Z
URL:https://business.sheboygan.org/events/details/celebrate-yp-month-may-2025-45309
END:VEVENT

END:VCALENDAR
