BEGIN:VCALENDAR
VERSION:2.0
PRODID:-//ChamberMaster//Event Calendar 2.0//EN
METHOD:PUBLISH
X-PUBLISHED-TTL:P3D
REFRESH-INTERVAL:P3D
CALSCALE:GREGORIAN
BEGIN:VEVENT
DTSTART:20260324T213000Z
DTEND:20260324T223000Z
X-MICROSOFT-CDO-ALLDAYEVENT:FALSE
SUMMARY:CHAMBER TRAVEL SHOW 2026 & 2027
DESCRIPTION:Chamber Travel Show\n\nExplore Our 2026 & 2027 Adventures\n\n  March 24\, 2026\n\n  4:30 PM   5:30 PM\n\n  Sheboygan County Chamber of Commerce \n\nJoin us for an engaging and inspiring travel gathering as we unveil our upcoming Chamber Travel experiences for 2026 and 2027! This fun and informative session will walk you through two unforgettable journeys\, answer questions\, and give you a taste of the adventures ahead.\n\n\n\n   Ready to travel? Sign up for the trips using the link below!\n\nChamber Travel - The Sheboygan Chamber of Commerce\n\n\n  2026 Chamber Trip\n\nIceland: Land of Fire & Ice\n\n  October 21 27\, 2026\n\nExperience the dramatic beauty of Iceland where volcanoes meet glaciers and nature puts on a show like nowhere else on Earth. From thundering waterfalls and black sand beaches to geothermal wonders and vibrant culture\, this trip is packed with breathtaking moments and once-in-a-lifetime experiences.\n\n\n  2027 Chamber Trip\n\nJewels of the Rhine River Cruise\n\n  September 12 21\, 2027\n\nStep into a storybook as we cruise along the legendary Rhine River. Discover charming medieval towns\, fairytale castles\, lush vineyards\, and iconic European cities. This elegant journey blends history\, culture\, and scenic beauty into a truly relaxing and enriching travel experience.\n\n\n  What to Expect at the Gathering\n\n\n	\n	Trip overviews & highlights\n	\n	\n	Dates\, destinations & experiences\n	\n	\n	Q&A session\n	\n	\n	A chance to connect with fellow travelers\n	\n\n\nWhether you're dreaming of Iceland's wild landscapes or Europe's timeless rivers or both this is the perfect opportunity to learn more and start planning your next adventure with the Chamber.\n\n  We can't wait to travel with you!
X-ALT-DESC;FMTTYPE=text/html:<h2 data-end="168" data-start="136">&#127757\; Chamber Travel Show</h2>\n\n<p data-end="207" data-start="169"><strong data-end="207" data-start="169">Explore Our 2026 &amp\; 2027 Adventures</strong></p>\n\n<p data-end="281" data-start="209">&#128197\;&nbsp\;<strong data-end="225" data-start="212">March 24\, 2026</strong><br data-end="228" data-start="225" />\n&#9200\;&nbsp\;<strong data-end="251" data-start="230">4:30 PM &ndash\; 5:30 PM</strong><br data-end="254" data-start="251" />\n&#128205\;&nbsp\;<i>Sheboygan County Chamber of Commerce&nbsp\;</i></p>\n\n<p data-end="560" data-start="283">Join us for an engaging and inspiring travel gathering as we unveil our upcoming&nbsp\;<strong data-end="412" data-start="364">Chamber Travel experiences for 2026 and 2027</strong>! This fun and informative session will walk you through two unforgettable journeys\, answer questions\, and give you a taste of the adventures ahead.<br />\n<br />\n<span style="font-size:14px\;">&#9992\;&#65039\; <strong data-end="75" data-start="54">Ready to travel?</strong> Sign up for the trips using the link below!</span><br />\n<a href="https://sheboygan.org/chamber-travel/">Chamber Travel - The Sheboygan Chamber of Commerce</a></p>\n\n<hr data-end="565" data-start="562" />\n<h3 data-end="592" data-start="567">&#10024\; 2026 Chamber Trip</h3>\n\n<h2 data-end="629" data-start="593"><strong data-end="627" data-start="596">Iceland: Land of Fire &amp\; Ice</strong></h2>\n\n<p data-end="656" data-start="630">&#128198\;&nbsp\;<strong data-end="656" data-start="633">October 21&ndash\;27\, 2026</strong></p>\n\n<p data-end="958" data-start="658">Experience the dramatic beauty of Iceland&mdash\;where volcanoes meet glaciers and nature puts on a show like nowhere else on Earth. From thundering waterfalls and black sand beaches to geothermal wonders and vibrant culture\, this trip is packed with breathtaking moments and once-in-a-lifetime experiences.</p>\n\n<hr data-end="963" data-start="960" />\n<h3 data-end="991" data-start="965">&#128142\; 2027 Chamber Trip</h3>\n\n<h2 data-end="1033" data-start="992"><strong data-end="1031" data-start="995">Jewels of the Rhine River Cruise</strong></h2>\n\n<p data-end="1062" data-start="1034">&#128198\;&nbsp\;<strong data-end="1062" data-start="1037">September 12&ndash\;21\, 2027</strong></p>\n\n<p data-end="1347" data-start="1064">Step into a storybook as we cruise along the legendary Rhine River. Discover charming medieval towns\, fairytale castles\, lush vineyards\, and iconic European cities. This elegant journey blends history\, culture\, and scenic beauty into a truly relaxing and enriching travel experience.</p>\n\n<hr data-end="1352" data-start="1349" />\n<h3 data-end="1392" data-start="1354">&#129517\; What to Expect at the Gathering</h3>\n\n<ul data-end="1524" data-start="1393">\n	<li data-end="1424" data-start="1393">\n	<p data-end="1424" data-start="1395">Trip overviews &amp\; highlights</p>\n	</li>\n	<li data-end="1462" data-start="1425">\n	<p data-end="1462" data-start="1427">Dates\, destinations &amp\; experiences</p>\n	</li>\n	<li data-end="1478" data-start="1463">\n	<p data-end="1478" data-start="1465">Q&amp\;A session</p>\n	</li>\n	<li data-end="1524" data-start="1479">\n	<p data-end="1524" data-start="1481">A chance to connect with fellow travelers</p>\n	</li>\n</ul>\n\n<p data-end="1717" data-start="1526">Whether you&rsquo\;re dreaming of Iceland&rsquo\;s wild landscapes or Europe&rsquo\;s timeless rivers&mdash\;or both&mdash\;this is the perfect opportunity to learn more and start planning your next adventure with the Chamber.</p>\n\n<p data-end="1760" data-start="1719">&#10024\;&nbsp\;<strong data-end="1758" data-start="1721">We can&rsquo\;t wait to travel with you!</strong>&nbsp\;&#10024\;</p>\n
LOCATION:Sheboygan County Chamber of Commerce Large Conference Room 621 South 8th Street Sheboygan\, WI 53081
UID:e.853.47953
SEQUENCE:3
DTSTAMP:20260420T141219Z
URL:https://business.sheboygan.org/events/details/chamber-travel-show-2026-2027-47953
END:VEVENT

END:VCALENDAR
