BEGIN:VCALENDAR
VERSION:2.0
PRODID:-//ChamberMaster//Event Calendar 2.0//EN
METHOD:PUBLISH
X-PUBLISHED-TTL:P3D
REFRESH-INTERVAL:P3D
CALSCALE:GREGORIAN
BEGIN:VEVENT
DTSTART;VALUE=DATE:20260502
DTEND;VALUE=DATE:20260503
TRANSP:TRANSPARENT
X-MICROSOFT-CDO-ALLDAYEVENT:TRUE
SUMMARY:Community Baby Shower
DESCRIPTION:Community Partnership for Children is proud to support a baby shower to help local families in need. Donations will be distributed to Anchor of Hope\, BabyCare\, Kindred Heat Families\, Mary's Room and WIC. Formula\, diapers (all sizes)\,\n\nboard books\, clothing (NB-4T) and any baby essentials are needed.
X-ALT-DESC;FMTTYPE=text/html:Community Partnership for Children is proud to support a baby shower to help local families in need. Donations will be distributed to Anchor of Hope\, BabyCare\, Kindred Heat Families\, Mary&#39\;s Room and WIC. Formula\, diapers (all sizes)\,<br />\nboard books\, clothing (NB-4T) and any baby essentials are needed.&nbsp\;
LOCATION:Donation Drop boxes will be at 4 Piggly Wiggly Stores\, Mead Public Library\, Sheboygan Post Office\, United Way\, Oostburg State Banks\, Margos\, and 15 local churches. For full list see babycaresheboygan.com.
UID:e.853.49093
SEQUENCE:3
DTSTAMP:20260422T203656Z
URL:https://business.sheboygan.org/events/details/community-baby-shower-49093
END:VEVENT

END:VCALENDAR
