BEGIN:VCALENDAR
VERSION:2.0
PRODID:-//ChamberMaster//Event Calendar 2.0//EN
METHOD:PUBLISH
X-PUBLISHED-TTL:P3D
REFRESH-INTERVAL:P3D
CALSCALE:GREGORIAN
BEGIN:VEVENT
DTSTART;VALUE=DATE:20251129
DTEND;VALUE=DATE:20251208
TRANSP:TRANSPARENT
X-MICROSOFT-CDO-ALLDAYEVENT:TRUE
SUMMARY:Holiday Shopping Day
DESCRIPTION:Calling All Holiday Shoppers! One heartwarming day. Support local. Celebrate creativity. Share the joy. Plymouth\, WI is celebrating "Small Business Saturday" with a Holiday Shopping Event on Saturday\, November 29. Downtown Plymouth: Stroll through our charming downtown and explore local shops\, boutiques\, and eateries many offering special deals\, festive d cor\, and holiday cheer just for Small Business Saturday. Whether you're shopping for one-of-a-kind gifts\, grabbing a bite\, or simply soaking in the spirit of the season\, Plymouth is the place to be. This is a day to celebrate creativity\, community\, and the magic of supporting local. Please note: businesses may have different hours. Two Fairs\, One Magical Day of Local Love Partnering on Small Business Saturday! At the Plymouth Arts Center: Holiday Art Fair: 520 E. Mill Street\, Downtown Plymouth Step into a gallery of holiday cheer and discover remarkable artwork by talented local artists. From paintings to pottery and more\, every piece tells a story. Warm up with complimentary coffee and hot cocoa and enjoy the festive ambiance that only the PAC can provide. Your $2 admission also includes a raffle ticket you might just leave with a little extra joy! For more information\, call 920-892-8409 or visit our website: PlymouthArts.Org At Generations: Craft Fair & Vendor Show: 1500 Douglas Drive\, Plymouth Wander through a wonderland of 40+ local vendors\, each offering handcrafted treasures and unique finds. Sip on complimentary coffee from Scooters and tea from Through The Looking Glass\, then treat yourself to a cozy lunch from Pic-A-Deli. Your $2 admission includes a raffle ticket because surprises make shopping sweeter! For more information call: 920) 892-4858 or visit website: generationsic.org
X-ALT-DESC;FMTTYPE=text/html:Calling All Holiday Shoppers! One heartwarming day. Support local. Celebrate creativity. Share the joy. Plymouth\, WI is celebrating &ldquo\;Small Business Saturday&rdquo\; with a Holiday Shopping Event on Saturday\, November 29. Downtown Plymouth: Stroll through our charming downtown and explore local shops\, boutiques\, and eateries&mdash\;many offering special deals\, festive d&eacute\;cor\, and holiday cheer just for Small Business Saturday. Whether you&rsquo\;re shopping for one-of-a-kind gifts\, grabbing a bite\, or simply soaking in the spirit of the season\, Plymouth is the place to be. This is a day to celebrate creativity\, community\, and the magic of supporting local. Please note: businesses may have different hours. Two Fairs\, One Magical Day of Local Love Partnering on Small Business Saturday! At the Plymouth Arts Center: Holiday Art Fair: 520 E. Mill Street\, Downtown Plymouth Step into a gallery of holiday cheer and discover remarkable artwork by talented local artists. From paintings to pottery and more\, every piece tells a story. Warm up with complimentary coffee and hot cocoa and enjoy the festive ambiance that only the PAC can provide. Your $2 admission also includes a raffle ticket&mdash\;you might just leave with a little extra joy! For more information\, call 920-892-8409 or visit our website: PlymouthArts.Org At Generations: Craft Fair &amp\; Vendor Show: 1500 Douglas Drive\, Plymouth Wander through a wonderland of 40+ local vendors\, each offering handcrafted treasures and unique finds. Sip on complimentary coffee from Scooters and tea from Through The Looking Glass\, then treat yourself to a cozy lunch from Pic-A-Deli. Your $2 admission includes a raffle ticket&mdash\;because surprises make shopping sweeter! For more information call: 920) 892-4858 or visit website: generationsic.org
LOCATION:520 East Mill st 1500 Douglas Drive Plymouth\, Wisconsin
UID:e.853.46858
SEQUENCE:3
DTSTAMP:20260421T110830Z
URL:https://business.sheboygan.org/events/details/holiday-shopping-day-46858
END:VEVENT

END:VCALENDAR
