BEGIN:VCALENDAR
VERSION:2.0
PRODID:-//ChamberMaster//Event Calendar 2.0//EN
METHOD:PUBLISH
X-PUBLISHED-TTL:P3D
REFRESH-INTERVAL:P3D
CALSCALE:GREGORIAN
BEGIN:VEVENT
DTSTART:20200219T180000Z
DTEND:20200219T193000Z
X-MICROSOFT-CDO-ALLDAYEVENT:FALSE
SUMMARY:Professional Women's Connection Monthly Meeting
DESCRIPTION:Professional Women's Connection has been the leading source for information\, knowledge sharing and development for women in the professional arena. Join Professional Women's Connection today or at our February meeting as a guest and start maximizing your leadership potential. This month we welcome Julie Preder\, Executive Director - Mental Health America to discuss "Women Leading with a Mindful Lens".
X-ALT-DESC;FMTTYPE=text/html:Professional Women&#39\;s Connection has been the leading source for information\, knowledge sharing and development for women in the professional arena. Join Professional Women&#39\;s Connection today or at our February meeting as a guest and start maximizing your leadership potential. This month we welcome Julie Preder\, Executive Director - Mental Health America to discuss &quot\;Women Leading with a Mindful Lens&quot\;.
LOCATION:Elk's Lodge 1943 Erie Ave Sheboygan\, WI 53081
UID:e.853.35666
SEQUENCE:3
DTSTAMP:20260420T234119Z
URL:https://business.sheboygan.org/events/details/professional-women-s-connection-monthly-meeting-35666
END:VEVENT

END:VCALENDAR
