BEGIN:VCALENDAR
VERSION:2.0
PRODID:-//ChamberMaster//Event Calendar 2.0//EN
METHOD:PUBLISH
X-PUBLISHED-TTL:P3D
REFRESH-INTERVAL:P3D
CALSCALE:GREGORIAN
BEGIN:VEVENT
DTSTART:20250401T230000Z
DTEND:20250402T003000Z
X-MICROSOFT-CDO-ALLDAYEVENT:FALSE
SUMMARY:Sheboygan County’s Ice Age Story
DESCRIPTION:Join the Sheboygan County Museum in welcoming the second speaker of the Spring Speaker Series: David Mickelson\, Senior Scientist at UW Madison. Learn about the wild Laurentide Ice Sheet that left us with a landscape that defines our history\, our now\, our work\, our play\, our wildlife\, and our beloved Ice Age Trail. Unpack the erratics. Pre-registration is encouraged at bit.ly/SpringWater2025.
X-ALT-DESC;FMTTYPE=text/html:Join the Sheboygan County Museum in welcoming the second speaker of the Spring Speaker Series: David Mickelson\, Senior Scientist at UW&ndash\;Madison. Learn about the wild Laurentide Ice Sheet that left us with a landscape that defines our history\, our now\, our work\, our play\, our wildlife\, and our beloved Ice Age Trail. Unpack the erratics. Pre-registration is encouraged at bit.ly/SpringWater2025.
LOCATION:Sheboygan County Museum 3110 Erie Ave. Sheboygan\, WI 53081
UID:e.853.45168
SEQUENCE:3
DTSTAMP:20260419T170204Z
URL:https://business.sheboygan.org/events/details/sheboygan-county-s-ice-age-story-45168
END:VEVENT

END:VCALENDAR
