BEGIN:VCALENDAR
VERSION:2.0
PRODID:-//ChamberMaster//Event Calendar 2.0//EN
METHOD:PUBLISH
X-PUBLISHED-TTL:P3D
REFRESH-INTERVAL:P3D
CALSCALE:GREGORIAN
BEGIN:VEVENT
DTSTART:20270717T213000Z
DTEND:20270718T013000Z
X-MICROSOFT-CDO-ALLDAYEVENT:FALSE
SUMMARY:Sheboygan Early Bird Lobster Boil
DESCRIPTION:LOBSTER BOIL FUNDRAISER\n\nMusic by SUZIE AND THE DETONATORS\, an amazing local group!\n\nJoin us for a Party in the Park\n\nPre purchase tickets for the lobster dinner by July 10\, 2026\n\nTickets at www.earlybirdrotary.org\, or from any Early Bird Rotarian\n\nProceed support technical school scholarships for Sheboygan County students and non-traditional scholarships (for anyone of any age or situation that would like to attend technical school in the state of Wisconsin. \n\n\n\n$65.00 ticket includes a fresh 1.25 lb. lobster flown in from Maine\, cooked fresh for you upon your arrival (allow 20 minutes for food prep)\, meal includes melted butter\, corn on the cob\, red potatoes\, coleslaw and a bun. \n\nOR purchase a PATRON TICKET which is 2 tickets for $250.00. The difference goes to supporting the Early Bird Rotary Foundation so we can continue to support our community and globally. You will be recognized at the event.\n\nTo assist you we will have Celebrity Lobster Tail Crackers to crack your lobster for you\, if you want!\n\nIf you do not enjoy lobster\n\nThe event is open to the public and does not require a pre-purchased ticket to enjoy\n\nSandwiches   burgers\, brats\, with all the fixins and fresh corn on the cob with melted butter. YUM!                       \n\nRefreshments   Wine\, Beer\, Water\, Soda\n\nWe look forward to serving you!\n\nAny questions about the event call Mary Werner 920-207-0231
X-ALT-DESC;FMTTYPE=text/html:<strong><span style="color:rgb(178\, 34\, 34)"><span style="background-color:rgb(255\, 215\, 0)">LOBSTER BOIL FUNDRAISER</span></span><br />\nMusic by SUZIE AND THE DETONATORS\,<span style="color:rgb(178\, 34\, 34)">&nbsp\;</span>an amazing local group!</strong><br />\n<strong><span style="color:rgb(178\, 34\, 34)"><span style="font-family:sans-serif\,arial\,verdana\,trebuchet ms"><span style="background-color:rgb(255\, 215\, 0)">Join us for a Party in the Park</span></span></span></strong><br />\n<span style="font-family:sans-serif\,arial\,verdana\,trebuchet ms">Pre purchase tickets for the lobster dinner by July 10\, 2026<br />\nTickets at&nbsp\;</span><a href="https://earlybirdrotary.org/" target="_blank"><strong>www.earlybirdrotary.org</strong></a><span style="font-family:sans-serif\,arial\,verdana\,trebuchet ms">\, or from any Early Bird Rotari</span><span style="font-family:sans-serif\,arial\,verdana\,trebuchet ms">an</span><br />\n<strong>Proceed support technical school scholarships for Sheboygan County students and&nbsp\;</strong><strong>non-traditional</strong><strong>&nbsp\;scholarships (for anyone of any age or situation that would like to attend technical school in the state of Wisconsin.&nbsp\;</strong><br />\n<br />\n$65.00 ticket includes a fresh 1.25 lb. lobster flown in from Maine\, cooked fresh for you upon your arrival (allow 20 minutes for food prep)\, meal includes melted butter\, corn on the cob\, red potatoes\, coleslaw and a bun.&nbsp\;<br />\nOR purchase a <strong>PATRON TICKET</strong> which is 2 tickets for $250.00. The difference goes to supporting the Early Bird Rotary Foundation so we can continue to support our community and globally. You will be recognized at the event.<br />\n<span style="font-family:sans-serif\,arial\,verdana\,trebuchet ms"><span style="color:#000000">To assist you we will have&nbsp\;</span></span><span style="color:rgb(178\, 34\, 34)"><span style="font-family:sans-serif\,arial\,verdana\,trebuchet ms">Celebrity Lobster Tail Crackers</span></span><span style="font-family:sans-serif\,arial\,verdana\,trebuchet ms">&nbsp\;</span>to crack your lobster for you\, if you want!<br />\n<strong><span style="color:rgb(178\, 34\, 34)">If you do not enjoy lobster</span></strong><br />\n<span style="font-family:sans-serif\,arial\,verdana\,trebuchet ms">The event is open to the public and does not require a pre-purchased ticket to enjoy</span><br />\n<span style="font-family:sans-serif\,arial\,verdana\,trebuchet ms">Sandwiches &ndash\; burgers\, brats\, with all the fixins and fresh corn on the cob with melted butter. YUM!&nbsp\; &nbsp\; &nbsp\; &nbsp\; &nbsp\; &nbsp\; &nbsp\; &nbsp\; &nbsp\; &nbsp\; &nbsp\; &nbsp\;</span><br />\nRefreshments &ndash\; Wine\, Beer\, Water\, Soda<br />\n<em><span style="color:#B22222"><strong>We look forward to serving you!</strong></span></em><br />\nAny questions about the event call Mary Werner 920-207-0231<br />\n&nbsp\;
LOCATION:Fountain Park
UID:e.853.47936
SEQUENCE:3
DTSTAMP:20260420T170714Z
URL:https://business.sheboygan.org/events/details/sheboygan-early-bird-lobster-boil-07-17-2027-47936
END:VEVENT

END:VCALENDAR
