BEGIN:VCALENDAR
VERSION:2.0
PRODID:-//ChamberMaster//Event Calendar 2.0//EN
METHOD:PUBLISH
X-PUBLISHED-TTL:P3D
REFRESH-INTERVAL:P3D
CALSCALE:GREGORIAN
BEGIN:VEVENT
DTSTART:20260411T000000Z
DTEND:20260411T020000Z
X-MICROSOFT-CDO-ALLDAYEVENT:FALSE
SUMMARY:Sheboygan Lutheran High School Presents Fiddler on the Roof
DESCRIPTION:Under the direction of Laurie Dillman\, the Sheboygan Lutheran High School Drama Department presents "Fiddler on the Roof" for its 2026 spring musical!\n\n \n\nThis is a beloved musical about tradition\, change\, and family\, set in a Jewish village in Imperial Russia at the turn of the 20th century\, following milkman\, Tevye\, as he navigates his daughters' marriages and growing anti-Semitism.\n\n\n\n?Tickets are required and available at https://www.lutheranhigh.com/pac.html\n\n$12 adults / $10 senior citizens 65+ / $7 students
X-ALT-DESC;FMTTYPE=text/html:<div>Under the direction of Laurie Dillman\, the Sheboygan Lutheran High School Drama Department presents &quot\;Fiddler on the Roof&quot\; for its 2026 spring musical!<br />\n&nbsp\;</div>\n\n<div>This is a beloved musical about tradition\, change\, and family\, set in a Jewish village in Imperial Russia at the turn of the 20th century\, following milkman\, Tevye\, as he navigates his daughters&#39\; marriages and growing anti-Semitism.</div>\n\n<div><br />\n?Tickets are required and available at&nbsp\;<a class="x1i10hfl xjbqb8w x1ejq31n x18oe1m7 x1sy0etr xstzfhl x972fbf x10w94by x1qhh985 x14e42zd x9f619 x1ypdohk xt0psk2 x3ct3a4 xdj266r x14z9mp xat24cr x1lziwak xexx8yu xyri2b x18d9i69 x1c1uobl x16tdsg8 x1hl2dhg xggy1nq x1a2a7pz xkrqix3 x1sur9pj x1fey0fg x1s688f" href="https://www.lutheranhigh.com/pac.html?fbclid=IwZXh0bgNhZW0CMTAAYnJpZBExaHRhVUNyVkxTc2phNXhxY3NydGMGYXBwX2lkEDIyMjAzOTE3ODgyMDA4OTIAAR4UGTwFuOlCmE9cr-4w6EQj54nyJtvx1myBLBGw0UFpU-w0HnmyEP73q7CcrQ_aem_QgT9tJpyWRAna_gDRKwPYg" rel="nofollow noreferrer" style="color: rgb(90\, 167\, 255)\; cursor: pointer\; text-decoration-line: none\; outline: none\; border-inline-width: 0px\; margin-inline: 0px\; text-align: inherit\; border-inline-style: none\; padding-inline: 0px\; -webkit-tap-highlight-color: transparent\; font-weight: 600\; list-style-type: none\; box-sizing: border-box\; touch-action: manipulation\; background-color: transparent\; display: inline\; padding-bottom: 0px\; border-top-style: none\; border-bottom-width: 0px\; border-bottom-style: none\; border-top-width: 0px\; margin-bottom: 0px\; margin-top: 0px\; padding-top: 0px\; font-family: inherit\;" tabindex="0" target="_blank">https://www.lutheranhigh.com/pac.html</a></div>\n\n<div>$12 adults / $10 senior citizens 65+ / $7 students</div>\n
LOCATION:The Performing Arts Center at Sheboygan Lutheran High School 3323 University Drive Sheboygan\, WI 53081
UID:e.853.47956
SEQUENCE:3
DTSTAMP:20260422T000407Z
URL:https://business.sheboygan.org/events/details/sheboygan-lutheran-high-school-presents-fiddler-on-the-roof-47956
END:VEVENT

END:VCALENDAR
