BEGIN:VCALENDAR
VERSION:2.0
PRODID:-//ChamberMaster//Event Calendar 2.0//EN
METHOD:PUBLISH
X-PUBLISHED-TTL:P3D
REFRESH-INTERVAL:P3D
CALSCALE:GREGORIAN
BEGIN:VEVENT
DTSTART:20200118T190000Z
DTEND:20200118T203000Z
X-MICROSOFT-CDO-ALLDAYEVENT:FALSE
SUMMARY:The Greatest Pirate Story (N)ever Told! Rated Arrr!
DESCRIPTION:Flung into the future by a musical-loving Sea Witch\, a crew of misfit pirates-turned-actors must now perform the greatest pirate epic ever seen on stage! But when their script is partially obscured by a tragic squid ink accident\, the crew must turn to the audience to fill in the missing bits of the plot. Cast members improvise their musical adventure\, seamlessly weaving the audience suggestions into scenes\, songs and more! Full of swordplay and wordplay with a boatload of laughs for pirates age 4 to 104\, this swashbuckling musical is never the same show twice! The show was nominated as "Best Family Show 2014" by the Off-Broadway Alliance Awards.
X-ALT-DESC;FMTTYPE=text/html:Flung into the future by a musical-loving Sea Witch\, a crew of misfit pirates-turned-actors must now perform the greatest pirate epic ever seen on stage! But when their script is partially obscured by a tragic squid ink accident\, the crew must turn to the audience to fill in the missing bits of the plot. Cast members improvise their musical adventure\, seamlessly weaving the audience suggestions into scenes\, songs and more! Full of swordplay and wordplay with a boatload of laughs for pirates age 4 to 104\, this swashbuckling musical is never the same show twice! The show was nominated as &quot\;Best Family Show 2014&quot\; by the Off-Broadway Alliance Awards.
LOCATION:Weill Center for the Performing Arts 826 N 8th St\, Sheboygan\, Wisconsin 53081
UID:e.853.35525
SEQUENCE:3
DTSTAMP:20260421T195302Z
URL:https://business.sheboygan.org/events/details/the-greatest-pirate-story-n-ever-told-rated-arrr-01-18-2020-35525
END:VEVENT

END:VCALENDAR
