BEGIN:VCALENDAR
VERSION:2.0
PRODID:-//ChamberMaster//Event Calendar 2.0//EN
METHOD:PUBLISH
X-PUBLISHED-TTL:P3D
REFRESH-INTERVAL:P3D
CALSCALE:GREGORIAN
BEGIN:VEVENT
DTSTART:20260430T163000Z
DTEND:20260430T180000Z
X-MICROSOFT-CDO-ALLDAYEVENT:FALSE
SUMMARY:United Way's Spirit Awards
DESCRIPTION:Hosted by United Way of Sheboygan County's Volunteer Center\, The Spirit Awards are an annual celebration honoring the remarkable individuals\, teams\, and companies that embody the true spirit of giving in our community. This event recognizes those who dedicate their time and talents to creating meaningful solutions and driving positive change without expecting anything in return. From inspiring youth volunteers to dedicated board members and corporate champions of service\, the awards are a moment to uplift the incredible people in Sheboygan County who contribute to strengthening our community. Admission includes soup\, salad and sandwich prepared by the expert chefs at The Osthoff Resort in beautiful Elkhart Lake\, Wisconsin.
X-ALT-DESC;FMTTYPE=text/html:Hosted by United Way of Sheboygan County&#39\;s Volunteer Center\, The Spirit Awards are an annual celebration honoring the remarkable individuals\, teams\, and companies that embody the true spirit of giving in our community. This event recognizes those who dedicate their time and talents to creating meaningful solutions and driving positive change without expecting anything in return. From inspiring youth volunteers to dedicated board members and corporate champions of service\, the awards are a moment to uplift the incredible people in Sheboygan County who contribute to strengthening our community. Admission includes soup\, salad and sandwich prepared by the expert chefs at The Osthoff Resort in beautiful Elkhart Lake\, Wisconsin.
LOCATION:The Osthoff Resort 101 Osthoff Avenue Elkhart Lake\, Wisconsin 53020
UID:e.853.47871
SEQUENCE:3
DTSTAMP:20260421T235413Z
URL:https://business.sheboygan.org/events/details/united-way-s-spirit-awards-47871
END:VEVENT

END:VCALENDAR
